BEGIN:VCALENDAR
VERSION:2.0
PRODID:-//Räbschter Obervögel - ECPv6.15.20//NONSGML v1.0//EN
CALSCALE:GREGORIAN
METHOD:PUBLISH
X-WR-CALNAME:Räbschter Obervögel
X-ORIGINAL-URL:https://obervogel.ch
X-WR-CALDESC:Veranstaltungen für Räbschter Obervögel
REFRESH-INTERVAL;VALUE=DURATION:PT1H
X-Robots-Tag:noindex
X-PUBLISHED-TTL:PT1H
BEGIN:VTIMEZONE
TZID:Europe/Berlin
BEGIN:DAYLIGHT
TZOFFSETFROM:+0100
TZOFFSETTO:+0200
TZNAME:CEST
DTSTART:20250330T010000
END:DAYLIGHT
BEGIN:STANDARD
TZOFFSETFROM:+0200
TZOFFSETTO:+0100
TZNAME:CET
DTSTART:20251026T010000
END:STANDARD
BEGIN:DAYLIGHT
TZOFFSETFROM:+0100
TZOFFSETTO:+0200
TZNAME:CEST
DTSTART:20260329T010000
END:DAYLIGHT
BEGIN:STANDARD
TZOFFSETFROM:+0200
TZOFFSETTO:+0100
TZNAME:CET
DTSTART:20261025T010000
END:STANDARD
BEGIN:DAYLIGHT
TZOFFSETFROM:+0100
TZOFFSETTO:+0200
TZNAME:CEST
DTSTART:20270328T010000
END:DAYLIGHT
BEGIN:STANDARD
TZOFFSETFROM:+0200
TZOFFSETTO:+0100
TZNAME:CET
DTSTART:20271031T010000
END:STANDARD
BEGIN:DAYLIGHT
TZOFFSETFROM:+0100
TZOFFSETTO:+0200
TZNAME:CEST
DTSTART:20280326T010000
END:DAYLIGHT
BEGIN:STANDARD
TZOFFSETFROM:+0200
TZOFFSETTO:+0100
TZNAME:CET
DTSTART:20281029T010000
END:STANDARD
END:VTIMEZONE
BEGIN:VEVENT
DTSTART;VALUE=DATE:20260926
DTEND;VALUE=DATE:20260927
DTSTAMP:20260425T134457
CREATED:20251122T111211Z
LAST-MODIFIED:20251122T111211Z
UID:3249-1790380800-1790467199@obervogel.ch
SUMMARY:Beginn Herbstferien
DESCRIPTION:Die meisten Singvögel\, Schwalben und Greifvögel ziehen im September und Oktober südwärts.
URL:https://obervogel.ch/termin/beginn-herbstferien/
ATTACH;FMTTYPE=image/jpeg:https://obervogel.ch/wp-content/uploads/20_1060x1500.jpg
END:VEVENT
BEGIN:VEVENT
DTSTART;TZID=Europe/Berlin:20261111T111100
DTEND;TZID=Europe/Berlin:20261111T111100
DTSTAMP:20260425T134457
CREATED:20240831T133712Z
LAST-MODIFIED:20251122T105353Z
UID:3058-1794395460-1794395460@obervogel.ch
SUMMARY:Fasnachtsbeginn um 11:11 Uhr
DESCRIPTION:
URL:https://obervogel.ch/termin/fasnachtsbeginn-um-1111-uhr/
ATTACH;FMTTYPE=image/jpeg:https://obervogel.ch/wp-content/uploads/fasnachtsbeginn-scaled.jpg
END:VEVENT
BEGIN:VEVENT
DTSTART;TZID=Europe/Berlin:20270108T183000
DTEND;TZID=Europe/Berlin:20270108T193000
DTSTAMP:20260425T134457
CREATED:20250104T094021Z
LAST-MODIFIED:20260220T151800Z
UID:3106-1799433000-1799436600@obervogel.ch
SUMMARY:Fasnachts-Gottesdienst mit den Bürgtätschern um 18.30 h (evang. Kirche Rebstein)
DESCRIPTION:Ort: evang. Kirche Rebstein
URL:https://obervogel.ch/termin/fasnachts-gottesdienst-mit-den-buergtaetschern-um-18-30-h-evang-kirche-rebstein/
ATTACH;FMTTYPE=image/png:https://obervogel.ch/wp-content/uploads/188968.png
END:VEVENT
BEGIN:VEVENT
DTSTART;VALUE=DATE:20270111
DTEND;VALUE=DATE:20270112
DTSTAMP:20260425T134457
CREATED:20250103T164507Z
LAST-MODIFIED:20260220T152656Z
UID:2750-1799625600-1799711999@obervogel.ch
SUMMARY:Detlef-Prozession und Brotsegnung
DESCRIPTION:Besammlung Zeit 17.45 Uhr.\n \nanschliessend intern: Brotsegnung bei Lombardi\n 
URL:https://obervogel.ch/termin/detlef-prozession-und-brotsegnung/
ATTACH;FMTTYPE=image/jpeg:https://obervogel.ch/wp-content/uploads/nggallery_import/0655b238-7529-4701-ad24-d7ca3b4a59f0.JPG
END:VEVENT
BEGIN:VEVENT
DTSTART;TZID=Europe/Berlin:20270129T080000
DTEND;TZID=Europe/Berlin:20270129T170000
DTSTAMP:20260425T134457
CREATED:20260220T152139Z
LAST-MODIFIED:20260220T152209Z
UID:3504-1801209600-1801242000@obervogel.ch
SUMMARY:Obervogel-Vorstellung 2027
DESCRIPTION:
URL:https://obervogel.ch/termin/obervogel-vorstellung-2027/
ATTACH;FMTTYPE=image/jpeg:https://obervogel.ch/wp-content/uploads/vdl-obervogel-2.jpg
END:VEVENT
BEGIN:VEVENT
DTSTART;TZID=Europe/Berlin:20270130T180000
DTEND;TZID=Europe/Berlin:20270130T190000
DTSTAMP:20260425T134457
CREATED:20230102T105409Z
LAST-MODIFIED:20260220T152759Z
UID:2759-1801332000-1801335600@obervogel.ch
SUMMARY:Räbschter Dorffasnacht
DESCRIPTION:
URL:https://obervogel.ch/termin/obervogelpraesentation-19-11-uhr-auf-dem-dorfplatz/
ATTACH;FMTTYPE=image/jpeg:https://obervogel.ch/wp-content/uploads/nggallery_import/2026-02-07-Raebschter-Samstag-113.jpg
END:VEVENT
BEGIN:VEVENT
DTSTART;VALUE=DATE:20270204
DTEND;VALUE=DATE:20270205
DTSTAMP:20260425T134457
CREATED:20251122T103146Z
LAST-MODIFIED:20260220T152502Z
UID:3240-1801699200-1801785599@obervogel.ch
SUMMARY:Schmutziger Donnerstag
DESCRIPTION:
URL:https://obervogel.ch/termin/schmutziger-donnerstag/
ATTACH;FMTTYPE=image/jpeg:https://obervogel.ch/wp-content/uploads/Sandhaufen_sind_hoechst_gefaehrlich-709x1030-1.jpeg
END:VEVENT
BEGIN:VEVENT
DTSTART;VALUE=DATE:20270210
DTEND;VALUE=DATE:20270211
DTSTAMP:20260425T134457
CREATED:20240831T134503Z
LAST-MODIFIED:20260220T152539Z
UID:3065-1802217600-1802303999@obervogel.ch
SUMMARY:Aschermittwoch
DESCRIPTION:
URL:https://obervogel.ch/termin/aschermittwoch/
ATTACH;FMTTYPE=image/jpeg:https://obervogel.ch/wp-content/uploads/Reto_der_Feuerspucker-scaled.jpeg
END:VEVENT
END:VCALENDAR